BEGIN:VCALENDAR
VERSION:2.0
PRODID:-//Harvard Global Health Institute - ECPv6.5.1.4//NONSGML v1.0//EN
CALSCALE:GREGORIAN
METHOD:PUBLISH
X-ORIGINAL-URL:https://globalhealth.harvard.edu
X-WR-CALDESC:Events for Harvard Global Health Institute
REFRESH-INTERVAL;VALUE=DURATION:PT1H
X-Robots-Tag:noindex
X-PUBLISHED-TTL:PT1H
BEGIN:VTIMEZONE
TZID:UTC
BEGIN:STANDARD
TZOFFSETFROM:+0000
TZOFFSETTO:+0000
TZNAME:UTC
DTSTART:20260101T000000
END:STANDARD
END:VTIMEZONE
BEGIN:VEVENT
DTSTART;TZID=UTC:20260512T120000
DTEND;TZID=UTC:20260512T124500
DTSTAMP:20260421T094539
CREATED:20260126T144252Z
LAST-MODIFIED:20260408T135653Z
UID:10001046-1778587200-1778589900@globalhealth.harvard.edu
SUMMARY:Addressing the Global Challenges of Drug-Resistant Gonorrhea
DESCRIPTION:Neisseria gonorrhoeae\, the cause of the sexually transmitted disease gonorrhea\, causes a high burden of disease and has become resistant to each of the first-line antibiotics used to treat it\, including increasing resistance to ceftriaxone\, the mainstay of treatment globally. With two new antibiotics recently approved for treatment\, the increasing use of doxycycline post-exposure prophylaxis for bacterial sexually transmitted infections\, and development of new diagnostics\, we have new tools to deploy. But how best to do so remains unclear. \nIn this presentation\, Professor Yonatan Grad will review recent advances in the diagnosis\, treatment\, and prevention of gonorrhea\, and discuss emerging frameworks for optimizing implementation and rollout strategies in diverse healthcare settings. \nThis webinar is free and open to the public and will include time for audience Q&A. \nRegister \n\nSpeaker\n \nYonatan Grad\, MD\, PhD\nProfessor of Immunology and Infectious Diseases and Director\, Center for Communicable Disease Dynamics\, Harvard T.H. Chan School of Public Health; Faculty\, Division of Infectious Diseases\, Brigham and Women’s Hospital \nYonatan is Professor of Immunology and Infectious Diseases and Director of the Center for Communicable Disease Dynamics at the Harvard T.H. Chan School of Public Health\, and faculty in the Division of Infectious Diseases at Brigham and Women’s Hospital. The Grad lab focuses on how to prepare and respond effectively to infectious disease threats through understanding interacting processes from microbial evolution through human ecology. The lab uses interdisciplinary methods\, including microbial genetics\, population genomics\, and mathematical modeling to move across these scales\, with goals of advancing clinical and public health practices. He works with public health institutions locally\, nationally\, and internationally\, including serving on WHO guideline committees for sexually transmitted infections. \n\n  \nGlobal Health Research and Innovation Speaker Series\nThe Harvard Global Health Institute’s Global Health Research and Innovation Speaker Series showcases the latest scholarly and scientific advancements in global health across Harvard and beyond\, to make cutting-edge research accessible to a diverse global audience\, and to spark innovative solutions in the pursuit of health equity and improved health outcomes worldwide. The public series takes place virtually on the second Tuesday of each month from 12:00 to 12:45 pm ET. Each session will include a presentation by a featured speaker showcasing their innovative research in global health\, followed by a moderated Q&A. \nThe Harvard Global Health Institute provides a platform for different perspectives and debates within the field of global health through a variety of media. The views expressed in these events and programs are solely those of the speakers\, authors\, researchers\, and participating audience. As such\, they do not speak for the institute or the university.
URL:https://globalhealth.harvard.edu/event/research-innovation-global-challenges-drug-resistant-gonorrhea/
LOCATION:Zoom\, Virtual: Zoom
CATEGORIES:Virtual
ATTACH;FMTTYPE=image/png:https://globalhealth.harvard.edu/wp-content/uploads/2026/01/Ruanne-Barnabas-RI-Speaker-Series-Promo-Image-900x600-25.png
END:VEVENT
END:VCALENDAR